BEGIN:VCALENDAR
VERSION:2.0
PRODID:-//ChamberMaster//Event Calendar 2.0//EN
METHOD:PUBLISH
X-PUBLISHED-TTL:P3D
REFRESH-INTERVAL:P3D
CALSCALE:GREGORIAN
BEGIN:VEVENT
DTSTART:20150430T150000Z
DTEND:20150430T153000Z
X-MICROSOFT-CDO-ALLDAYEVENT:FALSE
SUMMARY:Ribbon Cutting for Universal Pediatrics
DESCRIPTION:Universal Pediatrics is new to the Siouxland community and is celebrating their new location with a ribbon cutting and open house.
X-ALT-DESC;FMTTYPE=text/html:Universal Pediatrics is new to the Siouxland community and is celebrating their new location with a ribbon cutting and open house.
LOCATION:518 8th Street\, Ste B
UID:e.769.2107
SEQUENCE:3
DTSTAMP:20260421T184515Z
URL:https://directory.siouxlandchamber.com/events/details/ribbon-cutting-for-universal-pediatrics-04-30-2015-2107
END:VEVENT

END:VCALENDAR
