BEGIN:VCALENDAR
VERSION:2.0
PRODID:-//ChamberMaster//Event Calendar 2.0//EN
METHOD:PUBLISH
X-PUBLISHED-TTL:P3D
REFRESH-INTERVAL:P3D
CALSCALE:GREGORIAN
BEGIN:VEVENT
DTSTART:20150120T160000Z
DTEND:20150120T163000Z
X-MICROSOFT-CDO-ALLDAYEVENT:FALSE
SUMMARY:Ribbon Cutting for Therapy Station PC
DESCRIPTION:A Ribbon Cutting will be held for Therapy Station PC\, where they offer pediatric therapy (physical\, speech and occupational). Their 2\,500 square foot gym lets children enjoy a colorful assortment of therapy swings\, monkey bars\, a ball pit\, slides and a rock wall\, in a safe\, kid friendly environment.
X-ALT-DESC;FMTTYPE=text/html:A Ribbon Cutting will be held for Therapy Station PC\, where they offer pediatric therapy (physical\, speech and occupational). Their 2\,500 square foot gym lets children enjoy a colorful assortment of therapy swings\, monkey bars\, a ball pit\, slides and a rock wall\, in a safe\, kid friendly environment.&nbsp\;
LOCATION:1301 W. 1st Street
UID:e.769.2078
SEQUENCE:3
DTSTAMP:20260422T003622Z
URL:https://directory.siouxlandchamber.com/events/details/ribbon-cutting-for-therapy-station-pc-01-20-2015-2078
END:VEVENT

END:VCALENDAR
