BEGIN:VCALENDAR
VERSION:2.0
PRODID:-//ChamberMaster//Event Calendar 2.0//EN
METHOD:PUBLISH
X-PUBLISHED-TTL:P3D
REFRESH-INTERVAL:P3D
CALSCALE:GREGORIAN
BEGIN:VEVENT
DTSTART:20151013T153000Z
DTEND:20151013T160000Z
X-MICROSOFT-CDO-ALLDAYEVENT:FALSE
SUMMARY:Ribbon Cutting for Susan G. Komen Siouxland
DESCRIPTION:A ribbon cutting will be held to celebrate the new office location for Susan G. Komen Siouxland.
X-ALT-DESC;FMTTYPE=text/html:A ribbon cutting will be held to celebrate the new office location for Susan G. Komen Siouxland.&nbsp\;
LOCATION:417 Nebraska Street
UID:e.769.2161
SEQUENCE:3
DTSTAMP:20260421T114920Z
URL:https://directory.siouxlandchamber.com/events/details/ribbon-cutting-for-susan-g-komen-siouxland-10-13-2015-2161
END:VEVENT

END:VCALENDAR
