BEGIN:VCALENDAR
VERSION:2.0
PRODID:-//ChamberMaster//Event Calendar 2.0//EN
METHOD:PUBLISH
X-PUBLISHED-TTL:P3D
REFRESH-INTERVAL:P3D
CALSCALE:GREGORIAN
BEGIN:VEVENT
DTSTART:20150625T220000Z
DTEND:20150625T223000Z
X-MICROSOFT-CDO-ALLDAYEVENT:FALSE
SUMMARY:Ribbon Cutting for Stoney Creek Hotel & Conference Center
DESCRIPTION:Stoney Creek Hotel & Conference Center is rebranding their company logo so they are hosting an open house with a ribbon cutting to kick it off
X-ALT-DESC;FMTTYPE=text/html:Stoney Creek Hotel &amp\; Conference Center is rebranding their company logo so they are hosting an open house with a ribbon cutting to kick it off
LOCATION:300 3rd Street
UID:e.769.2111
SEQUENCE:3
DTSTAMP:20260421T161539Z
URL:https://directory.siouxlandchamber.com/events/details/ribbon-cutting-for-stoney-creek-hotel-conference-center-06-25-2015-2111
END:VEVENT

END:VCALENDAR
