BEGIN:VCALENDAR
VERSION:2.0
PRODID:-//ChamberMaster//Event Calendar 2.0//EN
METHOD:PUBLISH
X-PUBLISHED-TTL:P3D
REFRESH-INTERVAL:P3D
CALSCALE:GREGORIAN
BEGIN:VEVENT
DTSTART:20150826T150000Z
DTEND:20150826T153000Z
X-MICROSOFT-CDO-ALLDAYEVENT:FALSE
SUMMARY:Ribbon Cutting for Stella Sanford Child Development Center
DESCRIPTION:A ribbon cutting will be held at the Stella Sanford Child Development Center to celebrate their playground improvements\, which were completed due to the generosity from a MHRD grant.
X-ALT-DESC;FMTTYPE=text/html:A ribbon cutting will be held at the Stella Sanford Child Development Center to celebrate their playground improvements\, which were completed due to the generosity from a&nbsp\;MHRD&nbsp\;grant.
LOCATION:1724 Geneva Street
UID:e.769.2159
SEQUENCE:3
DTSTAMP:20260421T131531Z
URL:https://directory.siouxlandchamber.com/events/details/ribbon-cutting-for-stella-sanford-child-development-center-08-26-2015-2159
END:VEVENT

END:VCALENDAR
