BEGIN:VCALENDAR
VERSION:2.0
PRODID:-//ChamberMaster//Event Calendar 2.0//EN
METHOD:PUBLISH
X-PUBLISHED-TTL:P3D
REFRESH-INTERVAL:P3D
CALSCALE:GREGORIAN
BEGIN:VEVENT
DTSTART:20150920T000000Z
DTEND:20150920T003000Z
X-MICROSOFT-CDO-ALLDAYEVENT:FALSE
SUMMARY:Ribbon Cutting for South Sioux City's new Riverview Outdoor Center "ROC"
DESCRIPTION:A ribbon cutting will be held to celebrate the opening of the South Sioux City Riverview Outdoor Center "ROC". Click here for an itinerary of the event.
X-ALT-DESC;FMTTYPE=text/html:A ribbon cutting will be held to celebrate the opening of the South Sioux City Riverview Outdoor Center &quot\;ROC&quot\;. <a href="http://siouxlandchamber.com/wp-content/uploads/Wall-Dedication-Door-Hanger.pdf">Click here</a> for an itinerary of the event.
LOCATION:Scenic Park next to the soccer fields.
UID:e.769.2168
SEQUENCE:3
DTSTAMP:20260421T133014Z
URL:https://directory.siouxlandchamber.com/events/details/ribbon-cutting-for-south-sioux-city-s-new-riverview-outdoor-center-roc-09-19-2015-2168
END:VEVENT

END:VCALENDAR
