BEGIN:VCALENDAR
VERSION:2.0
PRODID:-//ChamberMaster//Event Calendar 2.0//EN
METHOD:PUBLISH
X-PUBLISHED-TTL:P3D
REFRESH-INTERVAL:P3D
CALSCALE:GREGORIAN
BEGIN:VEVENT
DTSTART:20150817T150000Z
DTEND:20150817T153000Z
X-MICROSOFT-CDO-ALLDAYEVENT:FALSE
SUMMARY:Ribbon Cutting for Sioux City Symphony
DESCRIPTION:The Sioux City Symphony has relocated their offices to the first floor of the same building. We will hold a ribbon cutting to celebrate the kickoff of their 100th season and their new location.
X-ALT-DESC;FMTTYPE=text/html:The Sioux City Symphony has relocated their offices to the first floor of the same building. We will hold a ribbon cutting to celebrate the kickoff of their 100th season and their new location.
LOCATION:518 Pierce Street
UID:e.769.2154
SEQUENCE:3
DTSTAMP:20260421T131413Z
URL:https://directory.siouxlandchamber.com/events/details/ribbon-cutting-for-sioux-city-symphony-08-17-2015-2154
END:VEVENT

END:VCALENDAR
