BEGIN:VCALENDAR
VERSION:2.0
PRODID:-//ChamberMaster//Event Calendar 2.0//EN
METHOD:PUBLISH
X-PUBLISHED-TTL:P3D
REFRESH-INTERVAL:P3D
CALSCALE:GREGORIAN
BEGIN:VEVENT
DTSTART:20150528T200000Z
DTEND:20150528T203000Z
X-MICROSOFT-CDO-ALLDAYEVENT:FALSE
SUMMARY:Ribbon Cutting for Shepherd's Garden
DESCRIPTION:A ribbon cutting will be held at the Shepherd's Garden to celebrate the completion of construction.
X-ALT-DESC;FMTTYPE=text/html:A ribbon cutting will be held at the Shepherd&#39\;s Garden to celebrate the completion of construction.
LOCATION:6th and Jackson Street
UID:e.769.2121
SEQUENCE:3
DTSTAMP:20260421T174203Z
URL:https://directory.siouxlandchamber.com/events/details/ribbon-cutting-for-shepherd-s-garden-05-28-2015-2121
END:VEVENT

END:VCALENDAR
