BEGIN:VCALENDAR
VERSION:2.0
PRODID:-//ChamberMaster//Event Calendar 2.0//EN
METHOD:PUBLISH
X-PUBLISHED-TTL:P3D
REFRESH-INTERVAL:P3D
CALSCALE:GREGORIAN
BEGIN:VEVENT
DTSTART:20150313T160000Z
DTEND:20150313T170000Z
X-MICROSOFT-CDO-ALLDAYEVENT:FALSE
SUMMARY:Ribbon Cutting for Shahi Palace-India Grill
DESCRIPTION:A ribbon cutting will be held to celebrate the new Chamber membership of Shahi Palace - India Grill
X-ALT-DESC;FMTTYPE=text/html:A ribbon cutting will be held to celebrate the new Chamber&nbsp\;membership of Shahi Palace - India Grill
LOCATION:3146 Singing Hills Blvd
UID:e.769.2098
SEQUENCE:3
DTSTAMP:20260421T214827Z
URL:https://directory.siouxlandchamber.com/events/details/ribbon-cutting-for-shahi-palace-india-grill-03-13-2015-2098
END:VEVENT

END:VCALENDAR
