BEGIN:VCALENDAR
VERSION:2.0
PRODID:-//ChamberMaster//Event Calendar 2.0//EN
METHOD:PUBLISH
X-PUBLISHED-TTL:P3D
REFRESH-INTERVAL:P3D
CALSCALE:GREGORIAN
BEGIN:VEVENT
DTSTART:20150821T200000Z
DTEND:20150821T203000Z
X-MICROSOFT-CDO-ALLDAYEVENT:FALSE
SUMMARY:Ribbon Cutting for Sergeant Bluff Eyecare
DESCRIPTION:Sergeant Bluff Eyecare will hold an open house and ribbon cutting to celebrate the completion of their renovations.
X-ALT-DESC;FMTTYPE=text/html:Sergeant Bluff Eyecare will hold an open house and ribbon cutting to celebrate the completion of their renovations.
LOCATION:110 Gaul Drive\, Ste. B
UID:e.769.2148
SEQUENCE:3
DTSTAMP:20260421T130202Z
URL:https://directory.siouxlandchamber.com/events/details/ribbon-cutting-for-sergeant-bluff-eyecare-08-21-2015-2148
END:VEVENT

END:VCALENDAR
