BEGIN:VCALENDAR
VERSION:2.0
PRODID:-//ChamberMaster//Event Calendar 2.0//EN
METHOD:PUBLISH
X-PUBLISHED-TTL:P3D
REFRESH-INTERVAL:P3D
CALSCALE:GREGORIAN
BEGIN:VEVENT
DTSTART:20150806T180000Z
DTEND:20150806T183000Z
X-MICROSOFT-CDO-ALLDAYEVENT:FALSE
SUMMARY:Ribbon Cutting for Scooters
DESCRIPTION:A ribbon cutting will be held for Scooters to celebrate their new location with eat in and drive up features.
X-ALT-DESC;FMTTYPE=text/html:A ribbon cutting will be held for Scooters to celebrate their new location with eat in and drive up features.
LOCATION:1390 Hamilton Blvd.
UID:e.769.2151
SEQUENCE:3
DTSTAMP:20260421T130348Z
URL:https://directory.siouxlandchamber.com/events/details/ribbon-cutting-for-scooters-08-06-2015-2151
END:VEVENT

END:VCALENDAR
