BEGIN:VCALENDAR
VERSION:2.0
PRODID:-//ChamberMaster//Event Calendar 2.0//EN
METHOD:PUBLISH
X-PUBLISHED-TTL:P3D
REFRESH-INTERVAL:P3D
CALSCALE:GREGORIAN
BEGIN:VEVENT
DTSTART:20150603T223000Z
DTEND:20150603T230000Z
X-MICROSOFT-CDO-ALLDAYEVENT:FALSE
SUMMARY:Ribbon Cutting for Pulse
DESCRIPTION:There will be a ribbon cutting for new Chamber member\, Pulse. Pulse is owned and operated by Becca Feauto. She does not have a store front so she will be having the celebration at another Chamber member's location
X-ALT-DESC;FMTTYPE=text/html:There will be a ribbon cutting for new Chamber member\, Pulse. Pulse is owned and operated by Becca Feauto. She does not have a store front so she will be having the celebration at another Chamber member&#39\;s location
LOCATION:Arthaus will be hosting the ribbon cutting for Pulse. They are located in the Benson Building\, third floor.
UID:e.769.2125
SEQUENCE:3
DTSTAMP:20260421T160716Z
URL:https://directory.siouxlandchamber.com/events/details/ribbon-cutting-for-pulse-06-03-2015-2125
END:VEVENT

END:VCALENDAR
