BEGIN:VCALENDAR
VERSION:2.0
PRODID:-//ChamberMaster//Event Calendar 2.0//EN
METHOD:PUBLISH
X-PUBLISHED-TTL:P3D
REFRESH-INTERVAL:P3D
CALSCALE:GREGORIAN
BEGIN:VEVENT
DTSTART:20150128T233000Z
DTEND:20150129T000000Z
X-MICROSOFT-CDO-ALLDAYEVENT:FALSE
SUMMARY:Ribbon Cutting for Poppin' Bottles n' Brushes
DESCRIPTION:A ribbon cutting will be held for Poppin' Bottles n' Brushes to celebrate their new Chamber membership. Since they do not have a store front\, their ribbon cutting will take place at one of the many facilities that they utilize for their events\, Doxx Warehouse Bar (another new Chamber member).  Ribbon cutting at 5:30 PM and a painting party at 6:30 PM. Must be registered for the painting party and  you can do that here.
X-ALT-DESC;FMTTYPE=text/html:A ribbon cutting will be held for Poppin&#39\; Bottles n&#39\; Brushes to celebrate their new Chamber membership. Since they do not have a store front\, their ribbon cutting will take place at one of the many facilities that they utilize for their events\, Doxx Warehouse Bar&nbsp\;(another new Chamber member). &nbsp\;R<span style="line-height: 20.7999992370605px\;">ibbon cutting at 5:30 PM and a painting party at 6:30 PM. Must be registered for the painting party and &nbsp\;you can do that&nbsp\;</span><strong style="line-height: 20.7999992370605px\;"><a href="http://www.eventbrite.com/e/chamber-ribbon-cutting-29-painting-party-wed-jan-28-w-free-catered-appetizers-tickets-15145871710">here</a></strong><span style="line-height: 20.7999992370605px\;">.</span>
LOCATION:Doxx Warehouse Bar\, 1219 5th Street
UID:e.769.2083
SEQUENCE:3
DTSTAMP:20260422T004035Z
URL:https://directory.siouxlandchamber.com/events/details/ribbon-cutting-for-poppin-bottles-n-brushes-01-28-2015-2083
END:VEVENT

END:VCALENDAR
