BEGIN:VCALENDAR
VERSION:2.0
PRODID:-//ChamberMaster//Event Calendar 2.0//EN
METHOD:PUBLISH
X-PUBLISHED-TTL:P3D
REFRESH-INTERVAL:P3D
CALSCALE:GREGORIAN
BEGIN:VEVENT
DTSTART:20150722T213000Z
DTEND:20150722T220000Z
X-MICROSOFT-CDO-ALLDAYEVENT:FALSE
SUMMARY:Ribbon Cutting for Pickled Palette
DESCRIPTION:A ribbon cutting and open house will be held at Pickled Palette at their new location. There will be a photobooth provided by PandaPix\, beer sampling with Marto Brewing\, and paint-your-own-tile project open to the public that will be later displayed in the studio.
X-ALT-DESC;FMTTYPE=text/html:<span style="font-size:12px\;"><span style="font-family:arial\;">A ribbon cutting and open house will be held at Pickled Palette at their new location. There will be a photobooth provided by PandaPix\, beer sampling with Marto Brewing\, and paint-your-own-tile project open to the public that will be later displayed in the studio.&nbsp\;</span></span>
LOCATION:4014 Morningside Ave.
UID:e.769.2144
SEQUENCE:3
DTSTAMP:20260421T155835Z
URL:https://directory.siouxlandchamber.com/events/details/ribbon-cutting-for-pickled-palette-07-22-2015-2144
END:VEVENT

END:VCALENDAR
