BEGIN:VCALENDAR
VERSION:2.0
PRODID:-//ChamberMaster//Event Calendar 2.0//EN
METHOD:PUBLISH
X-PUBLISHED-TTL:P3D
REFRESH-INTERVAL:P3D
CALSCALE:GREGORIAN
BEGIN:VEVENT
DTSTART:20151006T213000Z
DTEND:20151006T233000Z
X-MICROSOFT-CDO-ALLDAYEVENT:FALSE
SUMMARY:Ribbon Cutting for Physical Therapy Specialists PC
DESCRIPTION:A ribbon cutting and open house will be held to celebrate the new location for Physical Therapy Specialists PC
X-ALT-DESC;FMTTYPE=text/html:A ribbon cutting and open house will be held to celebrate the new location for Physical Therapy Specialists PC
LOCATION:915 Pierce Street
UID:e.769.2173
SEQUENCE:3
DTSTAMP:20260421T114547Z
URL:https://directory.siouxlandchamber.com/events/details/ribbon-cutting-for-physical-therapy-specialists-pc-10-06-2015-2173
END:VEVENT

END:VCALENDAR
