BEGIN:VCALENDAR
VERSION:2.0
PRODID:-//ChamberMaster//Event Calendar 2.0//EN
METHOD:PUBLISH
X-PUBLISHED-TTL:P3D
REFRESH-INTERVAL:P3D
CALSCALE:GREGORIAN
BEGIN:VEVENT
DTSTART:20150204T160000Z
DTEND:20150204T163000Z
X-MICROSOFT-CDO-ALLDAYEVENT:FALSE
SUMMARY:Ribbon Cutting for Perry Creek Laundromat
DESCRIPTION:A ribbon cutting will be held for the new Perry Creek Laundromat. Stop by and give it a whirl.
X-ALT-DESC;FMTTYPE=text/html:A ribbon cutting will be held for the new Perry Creek Laundromat. Stop by and give it a whirl.
LOCATION:405 West 19th Street
UID:e.769.2087
SEQUENCE:3
DTSTAMP:20260421T214612Z
URL:https://directory.siouxlandchamber.com/events/details/ribbon-cutting-for-perry-creek-laundromat-02-04-2015-2087
END:VEVENT

END:VCALENDAR
