BEGIN:VCALENDAR
VERSION:2.0
PRODID:-//ChamberMaster//Event Calendar 2.0//EN
METHOD:PUBLISH
X-PUBLISHED-TTL:P3D
REFRESH-INTERVAL:P3D
CALSCALE:GREGORIAN
BEGIN:VEVENT
DTSTART:20151029T163000Z
DTEND:20151029T183000Z
X-MICROSOFT-CDO-ALLDAYEVENT:FALSE
SUMMARY:Ribbon Cutting for Perla J Alarcon-Flory
DESCRIPTION:Ribbon Cutting at 11:30 \n\nOpen House 11:30 - 1:30
X-ALT-DESC;FMTTYPE=text/html:Ribbon Cutting at 11:30&nbsp\;<br />\nOpen House 11:30 - 1:30
LOCATION:600 4th St.\, Ste. 313 Ho-Chunk Centre
UID:e.769.2175
SEQUENCE:3
DTSTAMP:20260421T130542Z
URL:https://directory.siouxlandchamber.com/events/details/ribbon-cutting-for-perla-j-alarcon-flory-10-29-2015-2175
END:VEVENT

END:VCALENDAR
