BEGIN:VCALENDAR
VERSION:2.0
PRODID:-//ChamberMaster//Event Calendar 2.0//EN
METHOD:PUBLISH
X-PUBLISHED-TTL:P3D
REFRESH-INTERVAL:P3D
CALSCALE:GREGORIAN
BEGIN:VEVENT
DTSTART:20150919T000000Z
DTEND:20150919T003000Z
X-MICROSOFT-CDO-ALLDAYEVENT:FALSE
SUMMARY:Ribbon Cutting for Park Jefferson Speedway
DESCRIPTION:Park Jefferson Speedway is celebrating their Chamber membership with a ribbon cutting before the race.
X-ALT-DESC;FMTTYPE=text/html:Park Jefferson Speedway is celebrating their Chamber membership with a ribbon cutting before the race.
LOCATION:48423 332nd Street\, Jefferson\, South Dakota
UID:e.769.2167
SEQUENCE:3
DTSTAMP:20260421T132426Z
URL:https://directory.siouxlandchamber.com/events/details/ribbon-cutting-for-park-jefferson-speedway-09-18-2015-2167
END:VEVENT

END:VCALENDAR
