BEGIN:VCALENDAR
VERSION:2.0
PRODID:-//ChamberMaster//Event Calendar 2.0//EN
METHOD:PUBLISH
X-PUBLISHED-TTL:P3D
REFRESH-INTERVAL:P3D
CALSCALE:GREGORIAN
BEGIN:VEVENT
DTSTART:20150512T213000Z
DTEND:20150512T220000Z
X-MICROSOFT-CDO-ALLDAYEVENT:FALSE
SUMMARY:Ribbon Cutting for Orthopedic Institute
DESCRIPTION:Orthopedic Institute will host a ribbon cutting and open house for their new Siouxland location.
X-ALT-DESC;FMTTYPE=text/html:Orthopedic Institute will host a ribbon cutting and open house for their new Siouxland location.&nbsp\;&nbsp\;&nbsp\;&nbsp\;
LOCATION:317 Dakota Dunes Blvd. Ste G (same strip mall as Cup of Joy) Dakota Dunes\, SD
UID:e.769.2115
SEQUENCE:3
DTSTAMP:20260421T174517Z
URL:https://directory.siouxlandchamber.com/events/details/ribbon-cutting-for-orthopedic-institute-05-12-2015-2115
END:VEVENT

END:VCALENDAR
