BEGIN:VCALENDAR
VERSION:2.0
PRODID:-//ChamberMaster//Event Calendar 2.0//EN
METHOD:PUBLISH
X-PUBLISHED-TTL:P3D
REFRESH-INTERVAL:P3D
CALSCALE:GREGORIAN
BEGIN:VEVENT
DTSTART:20150604T153000Z
DTEND:20150604T160000Z
X-MICROSOFT-CDO-ALLDAYEVENT:FALSE
SUMMARY:Ribbon Cutting for new Starbucks
DESCRIPTION:A ribbon cutting will be held to celebrate the opening of the new Starbucks on Hamilton
X-ALT-DESC;FMTTYPE=text/html:A ribbon cutting will be held to celebrate the opening of the new Starbucks on Hamilton
LOCATION:Hamilton Blvd
UID:e.769.2127
SEQUENCE:3
DTSTAMP:20260421T174205Z
URL:https://directory.siouxlandchamber.com/events/details/ribbon-cutting-for-new-starbucks-06-04-2015-2127
END:VEVENT

END:VCALENDAR
