BEGIN:VCALENDAR
VERSION:2.0
PRODID:-//ChamberMaster//Event Calendar 2.0//EN
METHOD:PUBLISH
X-PUBLISHED-TTL:P3D
REFRESH-INTERVAL:P3D
CALSCALE:GREGORIAN
BEGIN:VEVENT
DTSTART:20150902T150000Z
DTEND:20150902T153000Z
X-MICROSOFT-CDO-ALLDAYEVENT:FALSE
SUMMARY:Ribbon Cutting for Morningside Elementary
DESCRIPTION:A ribbon cutting will be held at the grand opening of Morningside Elementary.
X-ALT-DESC;FMTTYPE=text/html:A ribbon cutting will be held at the grand opening&nbsp\;of Morningside Elementary.
LOCATION:2550 S. Martha Street
UID:e.769.2155
SEQUENCE:3
DTSTAMP:20260421T130127Z
URL:https://directory.siouxlandchamber.com/events/details/ribbon-cutting-for-morningside-elementary-09-02-2015-2155
END:VEVENT

END:VCALENDAR
