BEGIN:VCALENDAR
VERSION:2.0
PRODID:-//ChamberMaster//Event Calendar 2.0//EN
METHOD:PUBLISH
X-PUBLISHED-TTL:P3D
REFRESH-INTERVAL:P3D
CALSCALE:GREGORIAN
BEGIN:VEVENT
DTSTART:20150812T210000Z
DTEND:20150812T213000Z
X-MICROSOFT-CDO-ALLDAYEVENT:FALSE
SUMMARY:Ribbon Cutting for Mercy Medical's new ICU
DESCRIPTION:A ribbon cutting will be held to celebrate the opening of the new Mercy Medical ICU
X-ALT-DESC;FMTTYPE=text/html:A ribbon cutting will be held to celebrate the opening of the new Mercy Medical ICU
LOCATION:Mercy Medical ICU unit. Parking is available in the Mercy parking ramp. Please take the elevators by the gift shop up to 5th floor. The ICU is to the immediate right.
UID:e.769.2156
SEQUENCE:3
DTSTAMP:20260421T132613Z
URL:https://directory.siouxlandchamber.com/events/details/ribbon-cutting-for-mercy-medical-s-new-icu-08-12-2015-2156
END:VEVENT

END:VCALENDAR
