BEGIN:VCALENDAR
VERSION:2.0
PRODID:-//ChamberMaster//Event Calendar 2.0//EN
METHOD:PUBLISH
X-PUBLISHED-TTL:P3D
REFRESH-INTERVAL:P3D
CALSCALE:GREGORIAN
BEGIN:VEVENT
DTSTART:20150122T223000Z
DTEND:20150122T230000Z
X-MICROSOFT-CDO-ALLDAYEVENT:FALSE
SUMMARY:Ribbon Cutting for LifeServe Blood Center
DESCRIPTION:LifeServe Blood Center will be hosting a grand opening celebration and cutting a ribbon at their new location. Cake and punch will be served.
X-ALT-DESC;FMTTYPE=text/html:LifeServe Blood Center will be hosting a grand opening celebration and cutting a ribbon at their new location. Cake and punch will be served.
LOCATION:4501 Southern Hills Drive
UID:e.769.2046
SEQUENCE:3
DTSTAMP:20260422T003955Z
URL:https://directory.siouxlandchamber.com/events/details/ribbon-cutting-for-lifeserve-blood-center-01-22-2015-2046
END:VEVENT

END:VCALENDAR
