BEGIN:VCALENDAR
VERSION:2.0
PRODID:-//ChamberMaster//Event Calendar 2.0//EN
METHOD:PUBLISH
X-PUBLISHED-TTL:P3D
REFRESH-INTERVAL:P3D
CALSCALE:GREGORIAN
BEGIN:VEVENT
DTSTART:20150506T150000Z
DTEND:20150506T153000Z
X-MICROSOFT-CDO-ALLDAYEVENT:FALSE
SUMMARY:Ribbon Cutting for Legacy Solutions LLC
DESCRIPTION:Legacy Solutions LLC has opened a new location in Sioux City so they are hosting a ribbon cutting and open house to celebrate.
X-ALT-DESC;FMTTYPE=text/html:Legacy Solutions LLC has opened a new location in Sioux City so they are hosting a ribbon cutting and open house to celebrate.
LOCATION:701 Pierce Street\, the Pioneer Building\, Suite 201
UID:e.769.2112
SEQUENCE:3
DTSTAMP:20260421T174045Z
URL:https://directory.siouxlandchamber.com/events/details/ribbon-cutting-for-legacy-solutions-llc-05-06-2015-2112
END:VEVENT

END:VCALENDAR
