BEGIN:VCALENDAR
VERSION:2.0
PRODID:-//ChamberMaster//Event Calendar 2.0//EN
METHOD:PUBLISH
X-PUBLISHED-TTL:P3D
REFRESH-INTERVAL:P3D
CALSCALE:GREGORIAN
BEGIN:VEVENT
DTSTART:20150605T160000Z
DTEND:20150605T163000Z
X-MICROSOFT-CDO-ALLDAYEVENT:FALSE
SUMMARY:Ribbon cutting for Koated Kernals
DESCRIPTION:A ribbon cutting will be held at the new store front for Koated Kernels. This business was started by two sisters that are the fifth generation of the JOLLY TIME Pop Corn company. Their specialty popcorns are something to check out.
X-ALT-DESC;FMTTYPE=text/html:A ribbon cutting will be held at the new store front for Koated Kernels. This business was started by two sisters that are the fifth generation of the JOLLY TIME Pop Corn company. Their specialty popcorns are something to check out.
LOCATION:1717 Terminal Drive
UID:e.769.2122
SEQUENCE:3
DTSTAMP:20260421T160958Z
URL:https://directory.siouxlandchamber.com/events/details/ribbon-cutting-for-koated-kernals-06-05-2015-2122
END:VEVENT

END:VCALENDAR
