BEGIN:VCALENDAR
VERSION:2.0
PRODID:-//ChamberMaster//Event Calendar 2.0//EN
METHOD:PUBLISH
X-PUBLISHED-TTL:P3D
REFRESH-INTERVAL:P3D
CALSCALE:GREGORIAN
BEGIN:VEVENT
DTSTART:20150603T160000Z
DTEND:20150603T163000Z
X-MICROSOFT-CDO-ALLDAYEVENT:FALSE
SUMMARY:Ribbon Cutting for Jitters
DESCRIPTION:A ribbon cutting will be held for new Chamber member\, Jitter's.
X-ALT-DESC;FMTTYPE=text/html:A ribbon cutting will be held for new Chamber member\, Jitter&#39\;s.
LOCATION:306 Virginia Street
UID:e.769.2124
SEQUENCE:3
DTSTAMP:20260421T160836Z
URL:https://directory.siouxlandchamber.com/events/details/ribbon-cutting-for-jitters-06-03-2015-2124
END:VEVENT

END:VCALENDAR
