BEGIN:VCALENDAR
VERSION:2.0
PRODID:-//ChamberMaster//Event Calendar 2.0//EN
METHOD:PUBLISH
X-PUBLISHED-TTL:P3D
REFRESH-INTERVAL:P3D
CALSCALE:GREGORIAN
BEGIN:VEVENT
DTSTART:20151215T160000Z
DTEND:20151215T170000Z
X-MICROSOFT-CDO-ALLDAYEVENT:FALSE
SUMMARY:Ribbon Cutting for Iowa State University Extension-Woodbury County
DESCRIPTION:Ribbon Cutting at 10:00 am\n\nOpen House with Tours from 10:00 am - 11:00 am
X-ALT-DESC;FMTTYPE=text/html:Ribbon Cutting at 10:00&nbsp\;am<br />\nOpen House with Tours from 10:00&nbsp\;am - 11:00&nbsp\;am
LOCATION:4728 Southern Hills Drive
UID:e.769.2189
SEQUENCE:3
DTSTAMP:20260421T143826Z
URL:https://directory.siouxlandchamber.com/events/details/ribbon-cutting-for-iowa-state-university-extension-woodbury-county-12-15-2015-2189
END:VEVENT

END:VCALENDAR
