BEGIN:VCALENDAR
VERSION:2.0
PRODID:-//ChamberMaster//Event Calendar 2.0//EN
METHOD:PUBLISH
X-PUBLISHED-TTL:P3D
REFRESH-INTERVAL:P3D
CALSCALE:GREGORIAN
BEGIN:VEVENT
DTSTART:20150402T163000Z
DTEND:20150402T170000Z
X-MICROSOFT-CDO-ALLDAYEVENT:FALSE
SUMMARY:Ribbon Cutting for Inside-Out Family Chiropractic
DESCRIPTION:Inside-Out Family Chiropractic will be hosting a ribbon cutting and open house to celebrate their new location. They will be serving a light lunch and having a door prize drawing for a TV.
X-ALT-DESC;FMTTYPE=text/html:Inside-Out Family Chiropractic will be hosting a ribbon cutting and open house to celebrate their new location. They will be serving a light lunch and having a door prize drawing for a TV.
LOCATION:3206 Singing Hills Drive
UID:e.769.2105
SEQUENCE:3
DTSTAMP:20260421T185620Z
URL:https://directory.siouxlandchamber.com/events/details/ribbon-cutting-for-inside-out-family-chiropractic-04-02-2015-2105
END:VEVENT

END:VCALENDAR
