BEGIN:VCALENDAR
VERSION:2.0
PRODID:-//ChamberMaster//Event Calendar 2.0//EN
METHOD:PUBLISH
X-PUBLISHED-TTL:P3D
REFRESH-INTERVAL:P3D
CALSCALE:GREGORIAN
BEGIN:VEVENT
DTSTART:20150512T190000Z
DTEND:20150512T193000Z
X-MICROSOFT-CDO-ALLDAYEVENT:FALSE
SUMMARY:Ribbon Cutting for IMKO Workforce Solutions
DESCRIPTION:IMKO Workforce Solutions will be hosting an Open House with a Ribbon Cutting
X-ALT-DESC;FMTTYPE=text/html:IMKO Workforce Solutions will be hosting an Open House with a Ribbon Cutting&nbsp\;
LOCATION:827 Gordon Drive (in the strip mall behind the IHOP)
UID:e.769.2116
SEQUENCE:3
DTSTAMP:20260421T173728Z
URL:https://directory.siouxlandchamber.com/events/details/ribbon-cutting-for-imko-workforce-solutions-05-12-2015-2116
END:VEVENT

END:VCALENDAR
