BEGIN:VCALENDAR
VERSION:2.0
PRODID:-//ChamberMaster//Event Calendar 2.0//EN
METHOD:PUBLISH
X-PUBLISHED-TTL:P3D
REFRESH-INTERVAL:P3D
CALSCALE:GREGORIAN
BEGIN:VEVENT
DTSTART:20150217T230000Z
DTEND:20150217T233000Z
X-MICROSOFT-CDO-ALLDAYEVENT:FALSE
SUMMARY:Ribbon Cutting for Hong Kong Supermarket
DESCRIPTION:A Ribbon Cutting will be held at Hong Kong Supermarket\, to celebrate their Chamber membership and to welcome in the Chinese New Year\, which starts on February 19th.
X-ALT-DESC;FMTTYPE=text/html:A Ribbon Cutting will be held at Hong Kong Supermarket\, to celebrate their Chamber membership and to welcome in the Chinese New Year\, which starts on February 19th.
LOCATION:511 W. 7th Street
UID:e.769.2092
SEQUENCE:3
DTSTAMP:20260421T214908Z
URL:https://directory.siouxlandchamber.com/events/details/ribbon-cutting-for-hong-kong-supermarket-02-17-2015-2092
END:VEVENT

END:VCALENDAR
