BEGIN:VCALENDAR
VERSION:2.0
PRODID:-//ChamberMaster//Event Calendar 2.0//EN
METHOD:PUBLISH
X-PUBLISHED-TTL:P3D
REFRESH-INTERVAL:P3D
CALSCALE:GREGORIAN
BEGIN:VEVENT
DTSTART:20160819T160000Z
DTEND:20160819T163000Z
X-MICROSOFT-CDO-ALLDAYEVENT:FALSE
SUMMARY:Ribbon Cutting for Gud N Free
DESCRIPTION:Please join us for a ribbon cutting to celebrate new Chamber member Gud N Free's grand opening and enjoy 1/2 off cupcakes and 25% off cheeseballs all day.  Gud N Free is Siouxland's first all gluten-free restaurants to open.  Please join us in congratulating owners\, Mike and Brenda Orlando on their new venture!
X-ALT-DESC;FMTTYPE=text/html:Please join us for a ribbon cutting to celebrate new Chamber member Gud N Free&#39\;s grand opening and enjoy 1/2 off cupcakes and 25% off cheeseballs all day. &nbsp\;Gud N Free is Siouxland&#39\;s&nbsp\;first all gluten-free restaurants to open. &nbsp\;Please join us in congratulating owners\, Mike and Brenda Orlando on their new venture!
LOCATION:3120 Floyd Boulevard Sioux City
UID:e.769.3324
SEQUENCE:3
DTSTAMP:20260421T143521Z
URL:https://directory.siouxlandchamber.com/events/details/ribbon-cutting-for-gud-n-free-08-19-2016-3324
END:VEVENT

END:VCALENDAR
