BEGIN:VCALENDAR
VERSION:2.0
PRODID:-//ChamberMaster//Event Calendar 2.0//EN
METHOD:PUBLISH
X-PUBLISHED-TTL:P3D
REFRESH-INTERVAL:P3D
CALSCALE:GREGORIAN
BEGIN:VEVENT
DTSTART:20151013T213000Z
DTEND:20151013T220000Z
X-MICROSOFT-CDO-ALLDAYEVENT:FALSE
SUMMARY:Ribbon Cutting for Goosmann Law Firm
DESCRIPTION:The Goosmann Law Firm have completed renovations on the second floor of their facility and are holding a ribbon cutting to showcase their new office space.
X-ALT-DESC;FMTTYPE=text/html:The Goosmann Law Firm have completed renovations on the second floor of their facility and are holding a ribbon cutting to showcase their new office space.&nbsp\;
LOCATION:410 5th Street
UID:e.769.2146
SEQUENCE:3
DTSTAMP:20260421T114807Z
URL:https://directory.siouxlandchamber.com/events/details/ribbon-cutting-for-goosmann-law-firm-10-13-2015-2146
END:VEVENT

END:VCALENDAR
