BEGIN:VCALENDAR
VERSION:2.0
PRODID:-//ChamberMaster//Event Calendar 2.0//EN
METHOD:PUBLISH
X-PUBLISHED-TTL:P3D
REFRESH-INTERVAL:P3D
CALSCALE:GREGORIAN
BEGIN:VEVENT
DTSTART:20150917T150000Z
DTEND:20150917T153000Z
X-MICROSOFT-CDO-ALLDAYEVENT:FALSE
SUMMARY:Ribbon Cutting for Goodin Insurance-Sioux City location
DESCRIPTION:A ribbon cutting will be held to celebrate the new Sioux City location for Goodin Insurance Company.
X-ALT-DESC;FMTTYPE=text/html:A ribbon cutting will be held to celebrate the new Sioux City location for Goodin Insurance Company.
LOCATION:1717 Pierce Street\, Sioux City\, IA
UID:e.769.2163
SEQUENCE:3
DTSTAMP:20260421T132814Z
URL:https://directory.siouxlandchamber.com/events/details/ribbon-cutting-for-goodin-insurance-sioux-city-location-09-17-2015-2163
END:VEVENT

END:VCALENDAR
