BEGIN:VCALENDAR
VERSION:2.0
PRODID:-//ChamberMaster//Event Calendar 2.0//EN
METHOD:PUBLISH
X-PUBLISHED-TTL:P3D
REFRESH-INTERVAL:P3D
CALSCALE:GREGORIAN
BEGIN:VEVENT
DTSTART:20150109T180000Z
DTEND:20150109T190000Z
X-MICROSOFT-CDO-ALLDAYEVENT:FALSE
SUMMARY:Ribbon Cutting for Game Repair Shop
DESCRIPTION:A Ribbon Cutting and Open House will be held for new Chamber member Game Repair Shop
X-ALT-DESC;FMTTYPE=text/html:A Ribbon Cutting and Open House will be held for new Chamber member Game Repair Shop
LOCATION:819 Gordon Drive (behind the IHOP)
UID:e.769.2047
SEQUENCE:3
DTSTAMP:20260422T005656Z
URL:https://directory.siouxlandchamber.com/events/details/ribbon-cutting-for-game-repair-shop-01-09-2015-2047
END:VEVENT

END:VCALENDAR
