BEGIN:VCALENDAR
VERSION:2.0
PRODID:-//ChamberMaster//Event Calendar 2.0//EN
METHOD:PUBLISH
X-PUBLISHED-TTL:P3D
REFRESH-INTERVAL:P3D
CALSCALE:GREGORIAN
BEGIN:VEVENT
DTSTART:20151118T160000Z
DTEND:20151118T170000Z
X-MICROSOFT-CDO-ALLDAYEVENT:FALSE
SUMMARY:Ribbon Cutting for Fast Signs
DESCRIPTION:Ribbon Cutting at 10:00 AM
X-ALT-DESC;FMTTYPE=text/html:Ribbon Cutting at 10:00 AM
LOCATION:4501 Southern Hills Drive Ste: 11 Sioux City
UID:e.769.2184
SEQUENCE:3
DTSTAMP:20260421T130450Z
URL:https://directory.siouxlandchamber.com/events/details/ribbon-cutting-for-fast-signs-11-18-2015-2184
END:VEVENT

END:VCALENDAR
