BEGIN:VCALENDAR
VERSION:2.0
PRODID:-//ChamberMaster//Event Calendar 2.0//EN
METHOD:PUBLISH
X-PUBLISHED-TTL:P3D
REFRESH-INTERVAL:P3D
CALSCALE:GREGORIAN
BEGIN:VEVENT
DTSTART:20150721T214500Z
DTEND:20150721T220000Z
X-MICROSOFT-CDO-ALLDAYEVENT:FALSE
SUMMARY:Ribbon Cutting for Family Health Care-Dakota Dunes
DESCRIPTION:A ribbon cutting will be held at Family Health Care-Dakota Dunes\, to celebrate the completion of the renovations.
X-ALT-DESC;FMTTYPE=text/html:A ribbon cutting will be held at Family Health Care-Dakota Dunes\, to celebrate the completion of the renovations.
LOCATION:345 W. Steamboat - Ste. 300
UID:e.769.2142
SEQUENCE:3
DTSTAMP:20260421T143959Z
URL:https://directory.siouxlandchamber.com/events/details/ribbon-cutting-for-family-health-care-dakota-dunes-07-21-2015-2142
END:VEVENT

END:VCALENDAR
