BEGIN:VCALENDAR
VERSION:2.0
PRODID:-//ChamberMaster//Event Calendar 2.0//EN
METHOD:PUBLISH
X-PUBLISHED-TTL:P3D
REFRESH-INTERVAL:P3D
CALSCALE:GREGORIAN
BEGIN:VEVENT
DTSTART:20150325T193000Z
DTEND:20150325T200000Z
X-MICROSOFT-CDO-ALLDAYEVENT:FALSE
SUMMARY:Ribbon Cutting for Family Dental Care of Sioux City
DESCRIPTION:A ribbon cutting will be held at Family Dental Care of Sioux City followed by an open house\, to celebrate their new membership with the Chamber.
X-ALT-DESC;FMTTYPE=text/html:A ribbon cutting will be held at Family Dental Care of Sioux City followed by an open house\, to celebrate their new membership with the Chamber.
LOCATION:5738 Sunnybrook Drive
UID:e.769.2100
SEQUENCE:3
DTSTAMP:20260421T201834Z
URL:https://directory.siouxlandchamber.com/events/details/ribbon-cutting-for-family-dental-care-of-sioux-city-03-25-2015-2100
END:VEVENT

END:VCALENDAR
