BEGIN:VCALENDAR
VERSION:2.0
PRODID:-//ChamberMaster//Event Calendar 2.0//EN
METHOD:PUBLISH
X-PUBLISHED-TTL:P3D
REFRESH-INTERVAL:P3D
CALSCALE:GREGORIAN
BEGIN:VEVENT
DTSTART:20150131T023000Z
DTEND:20150131T030000Z
X-MICROSOFT-CDO-ALLDAYEVENT:FALSE
SUMMARY:Ribbon Cutting for Doxx Warehouse Bar
DESCRIPTION:Join us for something a little out of the ordinary (a late night ribbon cutting) at Doxx Warehouse Bar. The ribbon cutting will be followed by the band Backtrack\, featuring drummer (and Chamber employee) Sam Wagner.
X-ALT-DESC;FMTTYPE=text/html:Join us for something a little out of the ordinary (a late night ribbon cutting)&nbsp\;at Doxx Warehouse Bar. The ribbon cutting will be followed by the band Backtrack\, featuring drummer (and Chamber employee) Sam Wagner.&nbsp\;
LOCATION:1219 5th Street
UID:e.769.2086
SEQUENCE:3
DTSTAMP:20260422T003734Z
URL:https://directory.siouxlandchamber.com/events/details/ribbon-cutting-for-doxx-warehouse-bar-01-30-2015-2086
END:VEVENT

END:VCALENDAR
