BEGIN:VCALENDAR
VERSION:2.0
PRODID:-//ChamberMaster//Event Calendar 2.0//EN
METHOD:PUBLISH
X-PUBLISHED-TTL:P3D
REFRESH-INTERVAL:P3D
CALSCALE:GREGORIAN
BEGIN:VEVENT
DTSTART:20150318T210000Z
DTEND:20150318T213000Z
X-MICROSOFT-CDO-ALLDAYEVENT:FALSE
SUMMARY:Ribbon Cutting for Creative Spirits
DESCRIPTION:Creative Spirits will be celebrating their new membership with the Chamber with a ribbon cutting and a special paint party.
X-ALT-DESC;FMTTYPE=text/html:Creative Spirits will be celebrating their new membership with the Chamber with a ribbon cutting and a special paint party.
LOCATION:3208 Singing Hills Blvd
UID:e.769.2091
SEQUENCE:3
DTSTAMP:20260421T214238Z
URL:https://directory.siouxlandchamber.com/events/details/ribbon-cutting-for-creative-spirits-03-18-2015-2091
END:VEVENT

END:VCALENDAR
