BEGIN:VCALENDAR
VERSION:2.0
PRODID:-//ChamberMaster//Event Calendar 2.0//EN
METHOD:PUBLISH
X-PUBLISHED-TTL:P3D
REFRESH-INTERVAL:P3D
CALSCALE:GREGORIAN
BEGIN:VEVENT
DTSTART:20150819T180000Z
DTEND:20150819T183000Z
X-MICROSOFT-CDO-ALLDAYEVENT:FALSE
SUMMARY:Ribbon Cutting for Cold Stone Creamery
DESCRIPTION:Cold Stone Creamery is under new ownership and we are cutting a ribbon to celebrate.
X-ALT-DESC;FMTTYPE=text/html:Cold Stone Creamery is under new ownership and we are cutting a ribbon to celebrate.
LOCATION:1921 Hamilton Blvd
UID:e.769.2150
SEQUENCE:3
DTSTAMP:20260421T130659Z
URL:https://directory.siouxlandchamber.com/events/details/ribbon-cutting-for-cold-stone-creamery-08-19-2015-2150
END:VEVENT

END:VCALENDAR
