BEGIN:VCALENDAR
VERSION:2.0
PRODID:-//ChamberMaster//Event Calendar 2.0//EN
METHOD:PUBLISH
X-PUBLISHED-TTL:P3D
REFRESH-INTERVAL:P3D
CALSCALE:GREGORIAN
BEGIN:VEVENT
DTSTART:20150312T203000Z
DTEND:20150312T210000Z
X-MICROSOFT-CDO-ALLDAYEVENT:FALSE
SUMMARY:Ribbon Cutting for Buchheit Law\, PLC
DESCRIPTION:A Ribbon Cutting will be held for new Chamber member\, Buchheit Law\, PLC.
X-ALT-DESC;FMTTYPE=text/html:A Ribbon Cutting will be held for new Chamber member\, Buchheit Law\, PLC.
LOCATION:633 1st St. Ste A\, Sergeant Bluff\, Iowa
UID:e.769.2094
SEQUENCE:3
DTSTAMP:20260421T201532Z
URL:https://directory.siouxlandchamber.com/events/details/ribbon-cutting-for-buchheit-law-plc-03-12-2015-2094
END:VEVENT

END:VCALENDAR
