BEGIN:VCALENDAR
VERSION:2.0
PRODID:-//ChamberMaster//Event Calendar 2.0//EN
METHOD:PUBLISH
X-PUBLISHED-TTL:P3D
REFRESH-INTERVAL:P3D
CALSCALE:GREGORIAN
BEGIN:VEVENT
DTSTART:20150814T213000Z
DTEND:20150814T220000Z
X-MICROSOFT-CDO-ALLDAYEVENT:FALSE
SUMMARY:Ribbon Cutting for Brookdale Sioux City (formerly known as Emeritus North Park)
DESCRIPTION:A ribbon cutting will be held to introduce Siouxland to Brookdale Sioux City\, formerly known as Emeritus North Park.
X-ALT-DESC;FMTTYPE=text/html:A ribbon cutting will be held to introduce Siouxland to <em>Brookdale Sioux City</em>\, formerly known as Emeritus North Park.
LOCATION:2562 Pierce Street
UID:e.769.2147
SEQUENCE:3
DTSTAMP:20260421T143941Z
URL:https://directory.siouxlandchamber.com/events/details/ribbon-cutting-for-brookdale-sioux-city-formerly-known-as-emeritus-north-park-08-14-2015-2147
END:VEVENT

END:VCALENDAR
