BEGIN:VCALENDAR
VERSION:2.0
PRODID:-//ChamberMaster//Event Calendar 2.0//EN
METHOD:PUBLISH
X-PUBLISHED-TTL:P3D
REFRESH-INTERVAL:P3D
CALSCALE:GREGORIAN
BEGIN:VEVENT
DTSTART:20150609T223000Z
DTEND:20150609T230000Z
X-MICROSOFT-CDO-ALLDAYEVENT:FALSE
SUMMARY:Ribbon Cutting for Briar Cliff University @ Mayfair
DESCRIPTION:A ribbon cutting will be held to celebrate the launch of a new satellite office for Briar Cliff University at Mayfair.
X-ALT-DESC;FMTTYPE=text/html:A ribbon cutting will be held to celebrate the launch of a new satellite office for Briar Cliff University at Mayfair.
LOCATION:Mayfair Center\, 4280 Sergeant Road\, Ste. 100
UID:e.769.2126
SEQUENCE:3
DTSTAMP:20260421T161239Z
URL:https://directory.siouxlandchamber.com/events/details/ribbon-cutting-for-briar-cliff-university-mayfair-06-09-2015-2126
END:VEVENT

END:VCALENDAR
