BEGIN:VCALENDAR
VERSION:2.0
PRODID:-//ChamberMaster//Event Calendar 2.0//EN
METHOD:PUBLISH
X-PUBLISHED-TTL:P3D
REFRESH-INTERVAL:P3D
CALSCALE:GREGORIAN
BEGIN:VEVENT
DTSTART:20150701T160000Z
DTEND:20150701T163000Z
X-MICROSOFT-CDO-ALLDAYEVENT:FALSE
SUMMARY:Ribbon Cutting for APi Distribution
DESCRIPTION:Ribbon Cutting for new Chamber member APi Distribution.
X-ALT-DESC;FMTTYPE=text/html:Ribbon Cutting for new Chamber member APi Distribution.
LOCATION:522 S. Flynn\, North Sioux City\, SD.
UID:e.769.2135
SEQUENCE:3
DTSTAMP:20260421T142917Z
URL:https://directory.siouxlandchamber.com/events/details/ribbon-cutting-for-api-distribution-07-01-2015-2135
END:VEVENT

END:VCALENDAR
