BEGIN:VCALENDAR
VERSION:2.0
PRODID:-//ChamberMaster//Event Calendar 2.0//EN
METHOD:PUBLISH
X-PUBLISHED-TTL:P3D
REFRESH-INTERVAL:P3D
CALSCALE:GREGORIAN
BEGIN:VEVENT
DTSTART:20190906T193000Z
DTEND:20190906T203000Z
X-MICROSOFT-CDO-ALLDAYEVENT:FALSE
SUMMARY:Ribbon Cutting - Food Bank of Siouxland
DESCRIPTION:Please join us for a Ribbon Cutting with Siouxland Chamber members\, Food Bank of Siouxland and MercyOne Medical Center\, as they unveil the Food Bank's Food Truck with its new MercyOne sponsorship branding. A light reception will follow.\n\n\n\nThe Food Bank of Siouxland provides food to approximately 100 member agencies in eleven counties in the Siouxland area.
X-ALT-DESC;FMTTYPE=text/html:Please join us for a Ribbon Cutting with Siouxland Chamber members\, Food Bank of Siouxland and MercyOne Medical Center\, as they unveil the Food Bank&#39\;s Food Truck with its new MercyOne sponsorship branding. A light reception will follow.<br />\n<br />\nThe Food Bank of Siouxland provides food to approximately 100 member agencies in eleven counties in the Siouxland area.&nbsp\;
LOCATION:1313 11th Street Sioux City\, IA 51102
UID:e.769.5194
SEQUENCE:3
DTSTAMP:20260421T152408Z
URL:https://directory.siouxlandchamber.com/events/details/ribbon-cutting-food-bank-of-siouxland-5194
END:VEVENT

END:VCALENDAR
