BEGIN:VCALENDAR
VERSION:2.0
PRODID:-//ChamberMaster//Event Calendar 2.0//EN
METHOD:PUBLISH
X-PUBLISHED-TTL:P3D
REFRESH-INTERVAL:P3D
CALSCALE:GREGORIAN
BEGIN:VEVENT
DTSTART:20180413T180000Z
DTEND:20180413T183000Z
X-MICROSOFT-CDO-ALLDAYEVENT:FALSE
SUMMARY:Ribbon Cutting - Food Bank of Siouxland
DESCRIPTION:The Food Bank of Siouxland is celebrating the recent completion of a freezer and cooler construction project with a Chamber Ribbon Cutting.  Please join the celebration and help them thank their donors who made the improvements possible.
X-ALT-DESC;FMTTYPE=text/html:<span style="font-family:arial narrow\,sans-serif\;"><span style="font-size:11.0pt\;">The Food Bank of Siouxland is celebrating the recent completion of a freezer and cooler construction project with a Chamber Ribbon Cutting.&nbsp\; Please join the celebration and help them thank their donors who made the improvements possible.&nbsp\;</span></span>
LOCATION:1313 11th Street Sioux City
UID:e.769.4671
SEQUENCE:3
DTSTAMP:20260420T133719Z
URL:https://directory.siouxlandchamber.com/events/details/ribbon-cutting-food-bank-of-siouxland-4671
END:VEVENT

END:VCALENDAR
