BEGIN:VCALENDAR
VERSION:2.0
PRODID:-//ChamberMaster//Event Calendar 2.0//EN
METHOD:PUBLISH
X-PUBLISHED-TTL:P3D
REFRESH-INTERVAL:P3D
CALSCALE:GREGORIAN
BEGIN:VEVENT
DTSTART:20220811T213000Z
DTEND:20220811T220000Z
X-MICROSOFT-CDO-ALLDAYEVENT:FALSE
SUMMARY:Ribbon Cutting - Flux Dance Company
DESCRIPTION:Join us for the grand opening of Flux Dance Company and help us welcome them to the Siouxland Chamber! \n\n\n\n Formerly Lincoln Elementary School\, Flux Dance Company has renovated the building into Jensen Performing Arts Center. Flux Dance Company is Sioux City's non-competitive\, non-profit contemporary dance company. Flux creates opportunities for Siouxland dancers to perform new choreography in current and emerging dance styles and prepare for professional level study and performance. The company trains with regionally and nationally known contemporary dance artists. The company provides concerts and performances throughout the year to enhance the entertainment opportunities in Siouxland. \n\n\n\nFollowing the ribbon cutting\, there will be an open house from 5:30-7:30pm.
X-ALT-DESC;FMTTYPE=text/html:Join us for the grand opening of Flux Dance Company and help us welcome them to the Siouxland Chamber!&nbsp\;<br />\n<br />\n&#8203\;Formerly Lincoln Elementary School\, Flux Dance Company has renovated the building into Jensen Performing Arts Center.&nbsp\;<span style="border:none windowtext 1.0pt\;padding:0in\;"><span style="color:black\;"><span style="font-family:arial\,sans-serif\;"><span style="font-size:10.0pt\;">Flux Dance Company is Sioux City&#39\;s non-competitive\, non-profit contemporary dance company. Flux creates opportunities for Siouxland dancers to perform new choreography in current and emerging dance styles and prepare for professional level study and performance. The company trains with regionally and nationally known contemporary dance artists. The company provides concerts and performances throughout the year to enhance the entertainment opportunities in Siouxland.&nbsp\;</span></span></span></span><br />\n<br />\nFollowing the ribbon cutting\, there will be an open house from 5:30-7:30pm.&nbsp\;<br />\n&nbsp\;
LOCATION:117 Midvale Ave Sioux City\, IA 51104
UID:e.769.5835
SEQUENCE:3
DTSTAMP:20260420T003633Z
URL:https://directory.siouxlandchamber.com/events/details/ribbon-cutting-flux-dance-company-5835
END:VEVENT

END:VCALENDAR
