BEGIN:VCALENDAR
VERSION:2.0
PRODID:-//ChamberMaster//Event Calendar 2.0//EN
METHOD:PUBLISH
X-PUBLISHED-TTL:P3D
REFRESH-INTERVAL:P3D
CALSCALE:GREGORIAN
BEGIN:VEVENT
DTSTART:20180530T210000Z
DTEND:20180530T213000Z
X-MICROSOFT-CDO-ALLDAYEVENT:FALSE
SUMMARY:Ribbon Cutting - Five Star Call Centers
DESCRIPTION:Five Star Call Centers invite you to come check out their new location down the block at their upcoming Ribbon Cutting.  An Open House will follow until 5:00 PM Five Star has over 30 years in the call center business providing inbound and outbound support that help improve your customer relationships\, create new connections\, improve your receivables\, and ensure that each contact is handled professionally.
X-ALT-DESC;FMTTYPE=text/html:Five Star Call Centers invite you to come check out their new location down the block at their upcoming Ribbon Cutting.&nbsp\; An Open House will follow until 5:00 PM Five Star has over 30 years in the call center business providing inbound and outbound support that help improve your customer relationships\, create new connections\, improve your receivables\, and ensure that each contact is handled professionally.
LOCATION:301 Centennial Drive North Sioux City\, SD
UID:e.769.4716
SEQUENCE:3
DTSTAMP:20260420T163011Z
URL:https://directory.siouxlandchamber.com/events/details/ribbon-cutting-five-star-call-centers-4716
END:VEVENT

END:VCALENDAR
