BEGIN:VCALENDAR
VERSION:2.0
PRODID:-//ChamberMaster//Event Calendar 2.0//EN
METHOD:PUBLISH
X-PUBLISHED-TTL:P3D
REFRESH-INTERVAL:P3D
CALSCALE:GREGORIAN
BEGIN:VEVENT
DTSTART:20160623T210000Z
DTEND:20160623T213000Z
X-MICROSOFT-CDO-ALLDAYEVENT:FALSE
SUMMARY:Ribbon Cutting - Five Star Call Center - Lawrence & Schiller Teleservices
DESCRIPTION:Five Star Call Center\, formerly Lawrence & Schiller Teleservices\, has recently opened a call center in North Sioux City and will celebrate with a Ribbon Cutting and Open House.  Please help us welcome them to Siouxland and the Siouxland Chamber.
X-ALT-DESC;FMTTYPE=text/html:Five Star Call Center\, formerly&nbsp\;Lawrence &amp\; Schiller Teleservices\, has recently opened a call center in North Sioux City and will celebrate with a Ribbon Cutting and Open House. &nbsp\;Please help us welcome them to Siouxland and the Siouxland Chamber.
LOCATION:606 Gateway Drive North Sioux City\, SD
UID:e.769.3278
SEQUENCE:3
DTSTAMP:20260421T174657Z
URL:https://directory.siouxlandchamber.com/events/details/ribbon-cutting-five-star-call-center-lawrence-schiller-teleservices-06-23-2016-3278
END:VEVENT

END:VCALENDAR
