BEGIN:VCALENDAR
VERSION:2.0
PRODID:-//ChamberMaster//Event Calendar 2.0//EN
METHOD:PUBLISH
X-PUBLISHED-TTL:P3D
REFRESH-INTERVAL:P3D
CALSCALE:GREGORIAN
BEGIN:VEVENT
DTSTART:20180529T160000Z
DTEND:20180529T163000Z
X-MICROSOFT-CDO-ALLDAYEVENT:FALSE
SUMMARY:Ribbon Cutting - Fit My Feet
DESCRIPTION:Fit My Feet is coming to Siouxland and they are planning a ribbon cutting to celebrate!  Please join us in welcoming them to the Chamber and enjoy lunch following the ceremony.  Fit My Feet carries many brands of orthotics and shoes that help heal your sore\, achy feet.  Their Pedorthists\, Certified Fitters and Technicians start by measuring your feet and get to know your foot problems so they are able to put you in the right pair of shoes and orthotics.
X-ALT-DESC;FMTTYPE=text/html:<p>Fit My Feet is coming to Siouxland and they are planning a ribbon cutting to celebrate!&nbsp\; Please join us in welcoming them to the Chamber and enjoy lunch following the ceremony.&nbsp\; Fit My Feet carries&nbsp\;many brands of orthotics and shoes that help heal your sore\, achy feet.&nbsp\; Their&nbsp\;Pedorthists\, Certified Fitters and Technicians start by measuring your feet and get to know your foot problems so they are able to put you in the right pair of shoes and orthotics.&nbsp\;&nbsp\;</p>\n
LOCATION:200 Gold Circle Drive Dakota Dunes\, SD
UID:e.769.4709
SEQUENCE:3
DTSTAMP:20260420T150113Z
URL:https://directory.siouxlandchamber.com/events/details/ribbon-cutting-fit-my-feet-4709
END:VEVENT

END:VCALENDAR
